BEGIN:VCALENDAR
VERSION:2.0
PRODID:-//Ranking Australia - ECPv5.0.2.1//NONSGML v1.0//EN
CALSCALE:GREGORIAN
METHOD:PUBLISH
X-WR-CALNAME:Ranking Australia
X-ORIGINAL-URL:https://rankingaustralia.com.au
X-WR-CALDESC:Events for Ranking Australia
BEGIN:VTIMEZONE
TZID:UTC
BEGIN:STANDARD
TZOFFSETFROM:+0000
TZOFFSETTO:+0000
TZNAME:UTC
DTSTART:20200101T000000
END:STANDARD
END:VTIMEZONE
BEGIN:VEVENT
DTSTART;TZID=UTC:20200311T113000
DTEND;TZID=UTC:20200311T123000
DTSTAMP:20200226T170500
CREATED:20200103T084021Z
LAST-MODIFIED:20200103T084021Z
UID:70009-1583926200-1583929800@rankingaustralia.com.au
SUMMARY:Digital Toolkit 2020: Google My Business (Free Webinar)
DESCRIPTION:Learn from the experts how to create a Google My Business Listing and How to rank your website on Google\n\n\n\nDigital Toolkit 2020: Google For Business (Free Webinar) \nDo you struggle with computers? Want to get more clients online? Learn how to use Google to increase website traffic and get more online enquires. There is no experience required this is a beginners webinar.  \nWhen: 11:30am – 12:30pm Wednesday\, March 11th\, 2020 \nWhere: Online Workshop – Webinar \nWhat will be covered: \n\nHow to create a listing your business on Google Maps\n Intro to Google Analytics (easy stuff)\nHow to tell Google to rank your site\nHow to advertise on Google\n\nThis is an Introduction to the Ranking Australia Digital Business Blueprint Program. These webinars and digital workshops are a great opportunity to learn how to use digital tools for your business\, and build a digital toolkit to increase your digital capabilities. Every attendee has the chance to apply for our Digital Business Blueprint Program – Contact Ranking Australia for more information. CLICK HERE \n\n\n\nShare this:TwitterFacebook
URL:https://rankingaustralia.com.au/event/digital-toolkit-2020-google-my-business-free-webinar/
ATTACH;FMTTYPE=image/png:https://rankingaustralia.com.au/wp-content/uploads/2020/01/69980_image.png
END:VEVENT
END:VCALENDAR